BEGIN:VCALENDAR
VERSION:2.0
PRODID:-//https://www.fresnoscouts.com//NONSGML kigkonsult.se iCalcreator 2
 .29.14//
CALSCALE:GREGORIAN
METHOD:PUBLISH
UID:4145d5f8-3674-4a6d-bdf8-4ba0de8d7853
X-WR-CALNAME:JCal Pro Calendar
X-WR-CALDESC:Your online events calendar
X-WR-TIMEZONE:America/Los_Angeles
BEGIN:VTIMEZONE
TZID:America/Los_Angeles
BEGIN:STANDARD
TZNAME:PST
DTSTART:20251102T020000
TZOFFSETFROM:-0700
TZOFFSETTO:-0800
RDATE:20261101T020000
END:STANDARD
BEGIN:DAYLIGHT
TZNAME:PDT
DTSTART:20260308T020000
TZOFFSETFROM:-0800
TZOFFSETTO:-0700
RDATE:20270314T020000
END:DAYLIGHT
END:VTIMEZONE
BEGIN:VEVENT
UID:20190204T190000PST-4786t93mfb@http://www.fresnoscouts.com/
DTSTAMP:20260423T140043Z
CATEGORIES:Meetings
DESCRIPTION:<p><strong>Scouts:</strong>&nbsp\; Meeting&nbsp\;</p>\n<p>Progr
 am:&nbsp\; Green Hornets</p>\n<p>Service:&nbsp\; Dingos</p>\n<p>Theme:&nbs
 p\; Camporee Events</p>\n<p></p>\n<p><strong>Committee:</strong>&nbsp\; Mo
 nthly Meeting</p>\n<p>&nbsp\;</p>
DTSTART;TZID=America/Los_Angeles:20190211T190000
DTEND;TZID=America/Los_Angeles:20190211T190000
SUMMARY:Committee Meeting
URL:https://www.fresnoscouts.com/calendar/23-meetings/4-committee-meeting
X-ALT-DESC;FMTTYPE=TEXT/HTML:<p><strong>Scouts:</strong>&nbsp\; Meeting&nbs
 p\;</p>\n<p>Program:&nbsp\; Green Hornets</p>\n<p>Service:&nbsp\; Dingos</
 p>\n<p>Theme:&nbsp\; Camporee Events</p>\n<p></p>\n<p><strong>Committee:</
 strong>&nbsp\; Monthly Meeting</p>\n<p>&nbsp\;</p>
END:VEVENT
END:VCALENDAR
