BEGIN:VCALENDAR
VERSION:2.0
PRODID:-//https://www.fresnoscouts.com//NONSGML kigkonsult.se iCalcreator 2
 .29.14//
CALSCALE:GREGORIAN
METHOD:PUBLISH
UID:94947417-8a87-4487-a0c5-8da5a8060081
X-WR-CALNAME:JCal Pro Calendar
X-WR-CALDESC:Your online events calendar
X-WR-TIMEZONE:America/Los_Angeles
BEGIN:VTIMEZONE
TZID:America/Los_Angeles
BEGIN:STANDARD
TZNAME:PST
DTSTART:20251102T020000
TZOFFSETFROM:-0700
TZOFFSETTO:-0800
RDATE:20261101T020000
END:STANDARD
BEGIN:DAYLIGHT
TZNAME:PDT
DTSTART:20260308T020000
TZOFFSETFROM:-0800
TZOFFSETTO:-0700
RDATE:20270314T020000
END:DAYLIGHT
END:VTIMEZONE
BEGIN:VEVENT
UID:20190826T190000PDT-10226TzOeU@http://www.fresnoscouts.com/
DTSTAMP:20260423T150631Z
CATEGORIES:Meetings
DESCRIPTION:<p><strong>Scouts:</strong>&nbsp\; Meeting&nbsp\;</p>\n<p>Start
  submitting ideas for 2019/2020 outings.</p>\n<p>Program:&nbsp\; Green Hor
 nets</p>\n<p>Service:&nbsp\; Dingos</p>\n<p>Theme:&nbsp\; Photography</p>
DTSTART;TZID=America/Los_Angeles:20190826T190000
DTEND;TZID=America/Los_Angeles:20190826T190000
SUMMARY:Scout Meeting
URL:https://www.fresnoscouts.com/calendar/23-meetings/51-meeting
X-ALT-DESC;FMTTYPE=TEXT/HTML:<p><strong>Scouts:</strong>&nbsp\; Meeting&nbs
 p\;</p>\n<p>Start submitting ideas for 2019/2020 outings.</p>\n<p>Program:
 &nbsp\; Green Hornets</p>\n<p>Service:&nbsp\; Dingos</p>\n<p>Theme:&nbsp\;
  Photography</p>
END:VEVENT
END:VCALENDAR
