BEGIN:VCALENDAR
VERSION:2.0
PRODID:-//https://www.fresnoscouts.com//NONSGML kigkonsult.se iCalcreator 2
 .29.14//
CALSCALE:GREGORIAN
METHOD:PUBLISH
UID:2fbe2640-b1d0-450c-ae74-6d8c391b64ce
X-WR-CALNAME:JCal Pro Calendar
X-WR-CALDESC:Your online events calendar
X-WR-TIMEZONE:America/Los_Angeles
BEGIN:VTIMEZONE
TZID:America/Los_Angeles
BEGIN:STANDARD
TZNAME:PST
DTSTART:20251102T020000
TZOFFSETFROM:-0700
TZOFFSETTO:-0800
RDATE:20261101T020000
END:STANDARD
BEGIN:DAYLIGHT
TZNAME:PDT
DTSTART:20260308T020000
TZOFFSETFROM:-0800
TZOFFSETTO:-0700
RDATE:20270314T020000
END:DAYLIGHT
END:VTIMEZONE
BEGIN:VEVENT
UID:20190909T190000PDT-0357KAuluz@http://www.fresnoscouts.com/
DTSTAMP:20260423T163423Z
CATEGORIES:Meetings
DESCRIPTION:<p><strong>Scouts:</strong>&nbsp\; Meeting</p>\n<p>Last night t
 o submit ideas on outings for 2019/2020 year.</p>\n<p>Accounce that photos
  are needed for fall court of honor.</p>\n<p>Program:&nbsp\; Dingos</p>\n<
 p>Service:&nbsp\; Green Hornets</p>\n<p>Theme:&nbsp\; TBD</p>
DTSTART;TZID=America/Los_Angeles:20190909T190000
DTEND;TZID=America/Los_Angeles:20190909T190000
SUMMARY:Scout Meeting
URL:https://www.fresnoscouts.com/calendar/23-meetings/53-meeting
X-ALT-DESC;FMTTYPE=TEXT/HTML:<p><strong>Scouts:</strong>&nbsp\; Meeting</p>
 \n<p>Last night to submit ideas on outings for 2019/2020 year.</p>\n<p>Acc
 ounce that photos are needed for fall court of honor.</p>\n<p>Program:&nbs
 p\; Dingos</p>\n<p>Service:&nbsp\; Green Hornets</p>\n<p>Theme:&nbsp\; TBD
 </p>
END:VEVENT
END:VCALENDAR
