BEGIN:VCALENDAR
VERSION:2.0
PRODID:-//https://www.fresnoscouts.com//NONSGML kigkonsult.se iCalcreator 2
 .29.14//
CALSCALE:GREGORIAN
METHOD:PUBLISH
UID:ad722c89-d465-41b9-adbe-c9fec20ed849
X-WR-CALNAME:JCal Pro Calendar
X-WR-CALDESC:Your online events calendar
X-WR-TIMEZONE:America/Los_Angeles
BEGIN:VTIMEZONE
TZID:America/Los_Angeles
BEGIN:STANDARD
TZNAME:PST
DTSTART:20251102T020000
TZOFFSETFROM:-0700
TZOFFSETTO:-0800
RDATE:20261101T020000
END:STANDARD
BEGIN:DAYLIGHT
TZNAME:PDT
DTSTART:20260308T020000
TZOFFSETFROM:-0800
TZOFFSETTO:-0700
RDATE:20270314T020000
END:DAYLIGHT
END:VTIMEZONE
BEGIN:VEVENT
UID:20200413T190000PDT-9984GEJdLc@http://www.fresnoscouts.com/
DTSTAMP:20260423T150659Z
CATEGORIES:Meetings
DTSTART;TZID=America/Los_Angeles:20200511T190000
DTEND;TZID=America/Los_Angeles:20200511T203000
SUMMARY:Committee Meeting
URL:https://www.fresnoscouts.com/calendar/23-meetings/84-committee-meeting
END:VEVENT
END:VCALENDAR
