BEGIN:VCALENDAR
VERSION:2.0
PRODID:-//https://www.fresnoscouts.com//NONSGML kigkonsult.se iCalcreator 2
 .29.14//
CALSCALE:GREGORIAN
METHOD:PUBLISH
UID:c469920d-7890-4366-a705-78dab117b5ac
X-WR-CALNAME:JCal Pro Calendar
X-WR-CALDESC:Your online events calendar
X-WR-TIMEZONE:America/Los_Angeles
BEGIN:VTIMEZONE
TZID:America/Los_Angeles
BEGIN:STANDARD
TZNAME:PST
DTSTART:20251102T020000
TZOFFSETFROM:-0700
TZOFFSETTO:-0800
RDATE:20261101T020000
END:STANDARD
BEGIN:DAYLIGHT
TZNAME:PDT
DTSTART:20260308T020000
TZOFFSETFROM:-0800
TZOFFSETTO:-0700
RDATE:20270314T020000
END:DAYLIGHT
END:VTIMEZONE
BEGIN:VEVENT
UID:20190207T190000PST-9252mU1nkK@http://www.fresnoscouts.com/
DTSTAMP:20260423T150519Z
CATEGORIES:Meetings
DESCRIPTION:<p>All OA members are welcome and wear your sash.</p>\n<p>Locat
 ion:&nbsp\; Pioneer Village in Selma</p>\n<p>Time: 7:00 PM</p>\n<p>&nbsp\;
 </p>
DTSTART;TZID=America/Los_Angeles:20190207T190000
DTEND;TZID=America/Los_Angeles:20190207T190000
SUMMARY:OA Lodge Meeting
URL:https://www.fresnoscouts.com/calendar/23-meetings/13-oa-lodge-meeting
X-ALT-DESC;FMTTYPE=TEXT/HTML:<p>All OA members are welcome and wear your sa
 sh.</p>\n<p>Location:&nbsp\; Pioneer Village in Selma</p>\n<p>Time: 7:00 P
 M</p>\n<p>&nbsp\;</p>
END:VEVENT
BEGIN:VEVENT
UID:20190204T190000PST-4786t93mfb@http://www.fresnoscouts.com/
DTSTAMP:20260423T150519Z
CATEGORIES:Meetings
DESCRIPTION:<p><strong>Scouts:</strong>&nbsp\; Meeting&nbsp\;</p>\n<p>Progr
 am:&nbsp\; Green Hornets</p>\n<p>Service:&nbsp\; Dingos</p>\n<p>Theme:&nbs
 p\; Camporee Events</p>\n<p></p>\n<p><strong>Committee:</strong>&nbsp\; Mo
 nthly Meeting</p>\n<p>&nbsp\;</p>
DTSTART;TZID=America/Los_Angeles:20190211T190000
DTEND;TZID=America/Los_Angeles:20190211T190000
SUMMARY:Committee Meeting
URL:https://www.fresnoscouts.com/calendar/23-meetings/4-committee-meeting
X-ALT-DESC;FMTTYPE=TEXT/HTML:<p><strong>Scouts:</strong>&nbsp\; Meeting&nbs
 p\;</p>\n<p>Program:&nbsp\; Green Hornets</p>\n<p>Service:&nbsp\; Dingos</
 p>\n<p>Theme:&nbsp\; Camporee Events</p>\n<p></p>\n<p><strong>Committee:</
 strong>&nbsp\; Monthly Meeting</p>\n<p>&nbsp\;</p>
END:VEVENT
BEGIN:VEVENT
UID:20190213T173000PST-9754Kf3hUM@http://www.fresnoscouts.com/
DTSTAMP:20260423T150519Z
CATEGORIES:Meetings
DESCRIPTION:<p>Time:&nbsp\; 5:30 PM</p>\n<p>Location:&nbsp\; Darrels Mini S
 torage</p>\n<p>Unit:&nbsp\; 4521</p>\n<p></p>
DTSTART;TZID=America/Los_Angeles:20190213T173000
DTEND;TZID=America/Los_Angeles:20190213T173000
SUMMARY:Pack Up
URL:https://www.fresnoscouts.com/calendar/23-meetings/8-pack-up
X-ALT-DESC;FMTTYPE=TEXT/HTML:<p>Time:&nbsp\; 5:30 PM</p>\n<p>Location:&nbsp
 \; Darrels Mini Storage</p>\n<p>Unit:&nbsp\; 4521</p>\n<p></p>
END:VEVENT
BEGIN:VEVENT
UID:20190218T190000PST-2540fZx3Ji@http://www.fresnoscouts.com/
DTSTAMP:20260423T150519Z
CATEGORIES:Meetings
DESCRIPTION:<p>Returning from Death Valley Today.</p>
DTSTART;TZID=America/Los_Angeles:20190218T000000
DTEND;TZID=America/Los_Angeles:20190218T235959
SUMMARY:No Meeting
URL:https://www.fresnoscouts.com/calendar/23-meetings/6-no-meeting
X-ALT-DESC;FMTTYPE=TEXT/HTML:<p>Returning from Death Valley Today.</p>
END:VEVENT
BEGIN:VEVENT
UID:20190221T190000PST-6616ef8vWN@http://www.fresnoscouts.com/
DTSTAMP:20260423T150519Z
CATEGORIES:Meetings
DESCRIPTION:<p>Chapter Meeting location is TBD.&nbsp\;&nbsp\;</p>
DTSTART;TZID=America/Los_Angeles:20190221T190000
DTEND;TZID=America/Los_Angeles:20190221T190000
SUMMARY:OA Chapter Meeting
URL:https://www.fresnoscouts.com/calendar/23-meetings/9-oa-chapter-meeting
X-ALT-DESC;FMTTYPE=TEXT/HTML:<p>Chapter Meeting location is TBD.&nbsp\;&nbs
 p\;</p>
END:VEVENT
BEGIN:VEVENT
UID:20190225T190000PST-21152H1PlV@http://www.fresnoscouts.com/
DTSTAMP:20260423T150519Z
CATEGORIES:Meetings
DESCRIPTION:<p><strong>Scouts:</strong>&nbsp\; Meeting&nbsp\;</p>\n<p>Progr
 am:&nbsp\; Green Hornets</p>\n<p>Service:&nbsp\; Dingos</p>\n<p>Theme:&nbs
 p\; Camporee Events</p>
DTSTART;TZID=America/Los_Angeles:20190225T190000
DTEND;TZID=America/Los_Angeles:20190225T190000
SUMMARY:Scout Meeting
URL:https://www.fresnoscouts.com/calendar/23-meetings/7-meeting
X-ALT-DESC;FMTTYPE=TEXT/HTML:<p><strong>Scouts:</strong>&nbsp\; Meeting&nbs
 p\;</p>\n<p>Program:&nbsp\; Green Hornets</p>\n<p>Service:&nbsp\; Dingos</
 p>\n<p>Theme:&nbsp\; Camporee Events</p>
END:VEVENT
BEGIN:VEVENT
UID:20190301T190000PST-3030f9EiiC@http://www.fresnoscouts.com/
DTSTAMP:20260423T150519Z
CATEGORIES:Meetings
DESCRIPTION:<p><strong>Scouts:</strong>&nbsp\; Meeting&nbsp\;</p>\n<p>Annou
 nce:&nbsp\; Start turning in photos of past outings for court of honor and
  elections is in two weeks.</p>\n<p>Program:&nbsp\; Dingos</p>\n<p>Service
 :&nbsp\; Green Hornets</p>\n<p>Theme:&nbsp\; Wilderness First Aid and Orie
 nteering</p>
DTSTART;TZID=America/Los_Angeles:20190304T190000
DTEND;TZID=America/Los_Angeles:20190304T190000
SUMMARY:Scout Meeting
URL:https://www.fresnoscouts.com/calendar/23-meetings/14-meeting
X-ALT-DESC;FMTTYPE=TEXT/HTML:<p><strong>Scouts:</strong>&nbsp\; Meeting&nbs
 p\;</p>\n<p>Announce:&nbsp\; Start turning in photos of past outings for c
 ourt of honor and elections is in two weeks.</p>\n<p>Program:&nbsp\; Dingo
 s</p>\n<p>Service:&nbsp\; Green Hornets</p>\n<p>Theme:&nbsp\; Wilderness F
 irst Aid and Orienteering</p>
END:VEVENT
BEGIN:VEVENT
UID:20190307T190000PST-21975M6UOO@http://www.fresnoscouts.com/
DTSTAMP:20260423T150519Z
CATEGORIES:Meetings
DESCRIPTION:<p>ll OA members are welcome and wear your sash.</p>\n<p>Locati
 on:&nbsp\; Pioneer Village in Selma</p>\n<p>Time: 7:00 PM</p>
DTSTART;TZID=America/Los_Angeles:20190307T190000
DTEND;TZID=America/Los_Angeles:20190307T190000
SUMMARY:OA Lodge Meeting
URL:https://www.fresnoscouts.com/calendar/23-meetings/16-oa-lodge-meeting
X-ALT-DESC;FMTTYPE=TEXT/HTML:<p>ll OA members are welcome and wear your sas
 h.</p>\n<p>Location:&nbsp\; Pioneer Village in Selma</p>\n<p>Time: 7:00 PM
 </p>
END:VEVENT
BEGIN:VEVENT
UID:20190311T190000PDT-7121BTEF6p@http://www.fresnoscouts.com/
DTSTAMP:20260423T150519Z
CATEGORIES:Meetings
DESCRIPTION:<p><strong>Scouts:</strong>&nbsp\; Meeting</p>\n<p>Court of Hon
 or MC start working on program.&nbsp\; Est 50 programs</p>\n<p>Program:&nb
 sp\; Dingos</p>\n<p>Service:&nbsp\; Green Hornets</p>\n<p>Theme:&nbsp\; Wi
 lderness First Aid and Orienteering</p>\n<p>&nbsp\;<strong>Committee:</str
 ong>&nbsp\; Monthly Meeting</p>
DTSTART;TZID=America/Los_Angeles:20190311T190000
DTEND;TZID=America/Los_Angeles:20190311T190000
SUMMARY:Committee Meeting
URL:https://www.fresnoscouts.com/calendar/23-meetings/15-committee-meeting
X-ALT-DESC;FMTTYPE=TEXT/HTML:<p><strong>Scouts:</strong>&nbsp\; Meeting</p>
 \n<p>Court of Honor MC start working on program.&nbsp\; Est 50 programs</p
 >\n<p>Program:&nbsp\; Dingos</p>\n<p>Service:&nbsp\; Green Hornets</p>\n<p
 >Theme:&nbsp\; Wilderness First Aid and Orienteering</p>\n<p>&nbsp\;<stron
 g>Committee:</strong>&nbsp\; Monthly Meeting</p>
END:VEVENT
BEGIN:VEVENT
UID:20190318T190000PDT-7073FgU4vf@http://www.fresnoscouts.com/
DTSTAMP:20260423T150519Z
CATEGORIES:Meetings
DESCRIPTION:<p><strong>Scouts:</strong>&nbsp\; Meeting&nbsp\;</p>\n<p>Progr
 am:&nbsp\; Dingos</p>\n<p>Service:&nbsp\; Green Hornets</p>\n<p>Theme:&nbs
 p\; Wilderness First Aid and Orienteering</p>\n<p>&nbsp\;</p>\n<p><strong>
 Elections:</strong>&nbsp\; Troop Elections</p>
DTSTART;TZID=America/Los_Angeles:20190318T190000
DTEND;TZID=America/Los_Angeles:20190318T190000
SUMMARY:Scout Meeting
URL:https://www.fresnoscouts.com/calendar/23-meetings/17-meeting
X-ALT-DESC;FMTTYPE=TEXT/HTML:<p><strong>Scouts:</strong>&nbsp\; Meeting&nbs
 p\;</p>\n<p>Program:&nbsp\; Dingos</p>\n<p>Service:&nbsp\; Green Hornets</
 p>\n<p>Theme:&nbsp\; Wilderness First Aid and Orienteering</p>\n<p>&nbsp\;
 </p>\n<p><strong>Elections:</strong>&nbsp\; Troop Elections</p>
END:VEVENT
BEGIN:VEVENT
UID:20190318T190000PDT-8761DhwFg0@http://www.fresnoscouts.com/
DTSTAMP:20260423T150519Z
CATEGORIES:Meetings
DESCRIPTION:<p><strong>Scouts:</strong>&nbsp\; Meeting&nbsp\;</p>\n<p>Progr
 am:&nbsp\; Dingos</p>\n<p>Service:&nbsp\; Green Hornets</p>\n<p>Theme:&nbs
 p\; Wilderness First Aid and Orienteering</p>
DTSTART;TZID=America/Los_Angeles:20190318T190000
DTEND;TZID=America/Los_Angeles:20190318T190000
SUMMARY:Troop Elections
URL:https://www.fresnoscouts.com/calendar/23-meetings/58-troop-elections
X-ALT-DESC;FMTTYPE=TEXT/HTML:<p><strong>Scouts:</strong>&nbsp\; Meeting&nbs
 p\;</p>\n<p>Program:&nbsp\; Dingos</p>\n<p>Service:&nbsp\; Green Hornets</
 p>\n<p>Theme:&nbsp\; Wilderness First Aid and Orienteering</p>
END:VEVENT
BEGIN:VEVENT
UID:20190321T190000PDT-8234li99O2@http://www.fresnoscouts.com/
DTSTAMP:20260423T150519Z
CATEGORIES:Meetings
DESCRIPTION:<p>Chapter Meeting location is TBD.&nbsp\;&nbsp\;</p>
DTSTART;TZID=America/Los_Angeles:20190321T190000
DTEND;TZID=America/Los_Angeles:20190321T190000
SUMMARY:OA Chapter Meeting
URL:https://www.fresnoscouts.com/calendar/23-meetings/19-oa-chapter-meeting
X-ALT-DESC;FMTTYPE=TEXT/HTML:<p>Chapter Meeting location is TBD.&nbsp\;&nbs
 p\;</p>
END:VEVENT
BEGIN:VEVENT
UID:20190325T190000PDT-78885RvNil@http://www.fresnoscouts.com/
DTSTAMP:20260423T150519Z
CATEGORIES:Meetings
DESCRIPTION:<p><strong>Scouts:</strong>&nbsp\; Spring Court of Honor will s
 tart at 6:15 PM - Full Dress Uniforms (OA Sach)</p>\n<p>MC:&nbsp\; Ryan Ph
 ipps</p>\n<p>Food:&nbsp\; Last Name A - M</p>\n<p>Drinks:&nbsp\; Last Name
  N - Z</p>\n<p>Program:&nbsp\; Dingos</p>\n<p>Service:&nbsp\; Green Hornet
 s</p>\n<p><strong>Parents:</strong>&nbsp\; Please wear red ribbons</p>
DTSTART;TZID=America/Los_Angeles:20190325T181500
DTEND;TZID=America/Los_Angeles:20190325T181500
SUMMARY:Court of Honor
URL:https://www.fresnoscouts.com/calendar/23-meetings/22-meeting
X-ALT-DESC;FMTTYPE=TEXT/HTML:<p><strong>Scouts:</strong>&nbsp\; Spring Cour
 t of Honor will start at 6:15 PM - Full Dress Uniforms (OA Sach)</p>\n<p>M
 C:&nbsp\; Ryan Phipps</p>\n<p>Food:&nbsp\; Last Name A - M</p>\n<p>Drinks:
 &nbsp\; Last Name N - Z</p>\n<p>Program:&nbsp\; Dingos</p>\n<p>Service:&nb
 sp\; Green Hornets</p>\n<p><strong>Parents:</strong>&nbsp\; Please wear re
 d ribbons</p>
END:VEVENT
BEGIN:VEVENT
UID:20190401T183000PDT-3035WVp2W9@http://www.fresnoscouts.com/
DTSTAMP:20260423T150519Z
CATEGORIES:Meetings
DESCRIPTION:<p><strong>EVERY SCOUT SHOULD ATTEND - CLASS B UNIFORMS</strong
 ></p>\n<p>We will be taking care of the open field area behind our meeting
  place.&nbsp\; It is in serious need of weed control.</p>\n<p>Please bring
  safety glasses\, gloves\, rakes\, hoes and shovels if you got them.&nbsp\
 ; Adults if you have a small tiller\, lawnmower or weedeaters that would b
 e helpful.&nbsp\;</p>\n<p>Food will be provided!!!</p>
DTSTART;TZID=America/Los_Angeles:20190401T183000
DTEND;TZID=America/Los_Angeles:20190401T203000
SUMMARY:Charter Service Day
URL:https://www.fresnoscouts.com/calendar/23-meetings/75-charter-service-da
 y
X-ALT-DESC;FMTTYPE=TEXT/HTML:<p><strong>EVERY SCOUT SHOULD ATTEND - CLASS B
  UNIFORMS</strong></p>\n<p>We will be taking care of the open field area b
 ehind our meeting place.&nbsp\; It is in serious need of weed control.</p>
 \n<p>Please bring safety glasses\, gloves\, rakes\, hoes and shovels if yo
 u got them.&nbsp\; Adults if you have a small tiller\, lawnmower or weedea
 ters that would be helpful.&nbsp\;</p>\n<p>Food will be provided!!!</p>
END:VEVENT
BEGIN:VEVENT
UID:20190401T190000PDT-4952spRwuX@http://www.fresnoscouts.com/
DTSTAMP:20260423T150519Z
CATEGORIES:Meetings
DTSTART;TZID=America/Los_Angeles:20190401T000000
DTEND;TZID=America/Los_Angeles:20190401T235959
SUMMARY:No Meeting
URL:https://www.fresnoscouts.com/calendar/23-meetings/23-no-meeting
END:VEVENT
BEGIN:VEVENT
UID:20190404T190000PDT-5920u4vP7j@http://www.fresnoscouts.com/
DTSTAMP:20260423T150519Z
CATEGORIES:Meetings
DESCRIPTION:<p>ll OA members are welcome and wear your sash.</p>\n<p>Locati
 on:&nbsp\; Pioneer Village in Selma</p>\n<p>Time: 7:00 PM</p>
DTSTART;TZID=America/Los_Angeles:20190404T190000
DTEND;TZID=America/Los_Angeles:20190404T190000
SUMMARY:OA Lodge Meeting
URL:https://www.fresnoscouts.com/calendar/23-meetings/24-oa-lodge-meeting
X-ALT-DESC;FMTTYPE=TEXT/HTML:<p>ll OA members are welcome and wear your sas
 h.</p>\n<p>Location:&nbsp\; Pioneer Village in Selma</p>\n<p>Time: 7:00 PM
 </p>
END:VEVENT
BEGIN:VEVENT
UID:20190408T190000PDT-2897RZ2pU2@http://www.fresnoscouts.com/
DTSTAMP:20260423T150519Z
CATEGORIES:Meetings
DESCRIPTION:<p><strong>Scouts:</strong>&nbsp\; Meeting&nbsp\;</p>\n<p>Progr
 am:&nbsp\; Green Hornets</p>\n<p>Service:&nbsp\; Dingos</p>\n<p>Theme:&nbs
 p\; Kayaking</p>\n<p><strong>Committee:</strong>&nbsp\; Monthly Meeting</p
 >
DTSTART;TZID=America/Los_Angeles:20190408T190000
DTEND;TZID=America/Los_Angeles:20190408T190000
SUMMARY:Committee Meeting
URL:https://www.fresnoscouts.com/calendar/23-meetings/25-committee-meeting
X-ALT-DESC;FMTTYPE=TEXT/HTML:<p><strong>Scouts:</strong>&nbsp\; Meeting&nbs
 p\;</p>\n<p>Program:&nbsp\; Green Hornets</p>\n<p>Service:&nbsp\; Dingos</
 p>\n<p>Theme:&nbsp\; Kayaking</p>\n<p><strong>Committee:</strong>&nbsp\; M
 onthly Meeting</p>
END:VEVENT
BEGIN:VEVENT
UID:20190415T190000PDT-5565JVmzL5@http://www.fresnoscouts.com/
DTSTAMP:20260423T150519Z
CATEGORIES:Meetings
DESCRIPTION:<p>Easter Break</p>
DTSTART;TZID=America/Los_Angeles:20190415T190000
DTEND;TZID=America/Los_Angeles:20190415T190000
SUMMARY:No Meeting
URL:https://www.fresnoscouts.com/calendar/23-meetings/26-no-meeting
X-ALT-DESC;FMTTYPE=TEXT/HTML:<p>Easter Break</p>
END:VEVENT
BEGIN:VEVENT
UID:20190418T190000PDT-6881TF3Axx@http://www.fresnoscouts.com/
DTSTAMP:20260423T150519Z
CATEGORIES:Meetings
DESCRIPTION:<p>Chapter Meeting location is TBD.</p>
DTSTART;TZID=America/Los_Angeles:20190418T190000
DTEND;TZID=America/Los_Angeles:20190418T190000
SUMMARY:OA Chapter Meeting
URL:https://www.fresnoscouts.com/calendar/23-meetings/27-oa-chapter-meeting
X-ALT-DESC;FMTTYPE=TEXT/HTML:<p>Chapter Meeting location is TBD.</p>
END:VEVENT
BEGIN:VEVENT
UID:20190422T190000PDT-9956kivMuL@http://www.fresnoscouts.com/
DTSTAMP:20260423T150519Z
CATEGORIES:Meetings
DESCRIPTION:<p>Easter Break</p>
DTSTART;TZID=America/Los_Angeles:20190422T190000
DTEND;TZID=America/Los_Angeles:20190422T190000
SUMMARY:No Meeting
URL:https://www.fresnoscouts.com/calendar/23-meetings/28-no-meeting
X-ALT-DESC;FMTTYPE=TEXT/HTML:<p>Easter Break</p>
END:VEVENT
END:VCALENDAR
