BEGIN:VCALENDAR
VERSION:2.0
PRODID:-//https://www.fresnoscouts.com//NONSGML kigkonsult.se iCalcreator 2
 .29.14//
CALSCALE:GREGORIAN
METHOD:PUBLISH
UID:2038f580-29d0-4448-b902-164fdd6e9c63
X-WR-CALNAME:JCal Pro Calendar
X-WR-CALDESC:Your online events calendar
X-WR-TIMEZONE:America/Los_Angeles
BEGIN:VTIMEZONE
TZID:America/Los_Angeles
BEGIN:STANDARD
TZNAME:PST
DTSTART:20251102T020000
TZOFFSETFROM:-0700
TZOFFSETTO:-0800
RDATE:20261101T020000
END:STANDARD
BEGIN:DAYLIGHT
TZNAME:PDT
DTSTART:20260308T020000
TZOFFSETFROM:-0800
TZOFFSETTO:-0700
RDATE:20270314T020000
END:DAYLIGHT
END:VTIMEZONE
BEGIN:VEVENT
UID:20190218T080000PST-9934kCIvCF@http://www.fresnoscouts.com/
DTSTAMP:20260423T122035Z
CATEGORIES:Holidays
DTSTART;TZID=America/Los_Angeles:20190218T000000
DTEND;TZID=America/Los_Angeles:20190218T235959
SUMMARY:Presidents Day
URL:https://www.fresnoscouts.com/calendar/24-holidays/12-presidents-day
END:VEVENT
BEGIN:VEVENT
UID:20190222T080000PST-5778Nr8U0g@http://www.fresnoscouts.com/
DTSTAMP:20260423T122035Z
CATEGORIES:Holidays
DTSTART;TZID=America/Los_Angeles:20190222T000000
DTEND;TZID=America/Los_Angeles:20190222T235959
SUMMARY:Baden Powells BDay
URL:https://www.fresnoscouts.com/calendar/24-holidays/11-baden-powells-bday
END:VEVENT
BEGIN:VEVENT
UID:20190317T080000PDT-8923JOHhEa@http://www.fresnoscouts.com/
DTSTAMP:20260423T122035Z
CATEGORIES:Holidays
DESCRIPTION:<p>Wear green today!</p>
DTSTART;TZID=America/Los_Angeles:20190317T000000
DTEND;TZID=America/Los_Angeles:20190317T235959
SUMMARY:St. Patrick's Day
URL:https://www.fresnoscouts.com/calendar/24-holidays/61-st-patrick-s-day
X-ALT-DESC;FMTTYPE=TEXT/HTML:<p>Wear green today!</p>
END:VEVENT
BEGIN:VEVENT
UID:20190421T080000PDT-0649pFUm3w@http://www.fresnoscouts.com/
DTSTAMP:20260423T122035Z
CATEGORIES:Holidays
DTSTART;TZID=America/Los_Angeles:20190421T000000
DTEND;TZID=America/Los_Angeles:20190421T235959
SUMMARY:Easter
URL:https://www.fresnoscouts.com/calendar/24-holidays/30-easter
END:VEVENT
BEGIN:VEVENT
UID:20190512T080000PDT-2803eLvW3u@http://www.fresnoscouts.com/
DTSTAMP:20260423T122035Z
CATEGORIES:Holidays
DESCRIPTION:<p>Give mom some love!</p>
DTSTART;TZID=America/Los_Angeles:20190512T000000
DTEND;TZID=America/Los_Angeles:20190512T235959
SUMMARY:Mother's Day
URL:https://www.fresnoscouts.com/calendar/24-holidays/62-mother-s-day
X-ALT-DESC;FMTTYPE=TEXT/HTML:<p>Give mom some love!</p>
END:VEVENT
BEGIN:VEVENT
UID:20190527T080000PDT-9668rZH82z@http://www.fresnoscouts.com/
DTSTAMP:20260423T122035Z
CATEGORIES:Holidays
DTSTART;TZID=America/Los_Angeles:20190527T000000
DTEND;TZID=America/Los_Angeles:20190527T235959
SUMMARY:Memorial Day
URL:https://www.fresnoscouts.com/calendar/24-holidays/37-memorial-day
END:VEVENT
BEGIN:VEVENT
UID:20190616T080000PDT-6213PGaUkM@http://www.fresnoscouts.com/
DTSTAMP:20260423T122035Z
CATEGORIES:Holidays
DESCRIPTION:<p>Give dad a high five!</p>
DTSTART;TZID=America/Los_Angeles:20190616T000000
DTEND;TZID=America/Los_Angeles:20190616T235959
SUMMARY:Father's Day
URL:https://www.fresnoscouts.com/calendar/24-holidays/63-father-s-day
X-ALT-DESC;FMTTYPE=TEXT/HTML:<p>Give dad a high five!</p>
END:VEVENT
BEGIN:VEVENT
UID:20190704T080000PDT-5365kVWZae@http://www.fresnoscouts.com/
DTSTAMP:20260423T122035Z
CATEGORIES:Holidays
DESCRIPTION:<p>Happy 4th of July</p>
DTSTART;TZID=America/Los_Angeles:20190704T000000
DTEND;TZID=America/Los_Angeles:20190704T235959
SUMMARY:Independence Day
URL:https://www.fresnoscouts.com/calendar/24-holidays/59-independence-day
X-ALT-DESC;FMTTYPE=TEXT/HTML:<p>Happy 4th of July</p>
END:VEVENT
BEGIN:VEVENT
UID:20190902T080000PDT-64985CdUVV@http://www.fresnoscouts.com/
DTSTAMP:20260423T122035Z
CATEGORIES:Holidays
DTSTART;TZID=America/Los_Angeles:20190902T000000
DTEND;TZID=America/Los_Angeles:20190902T235959
SUMMARY:Labor Day
URL:https://www.fresnoscouts.com/calendar/24-holidays/60-labor-day
END:VEVENT
BEGIN:VEVENT
UID:20191031T080000PDT-4000aXEFDb@http://www.fresnoscouts.com/
DTSTAMP:20260423T122035Z
CATEGORIES:Holidays
DESCRIPTION:<p>Have a safe Halloween!</p>
DTSTART;TZID=America/Los_Angeles:20191031T000000
DTEND;TZID=America/Los_Angeles:20191031T235959
SUMMARY:Halloween
URL:https://www.fresnoscouts.com/calendar/24-holidays/64-halloween
X-ALT-DESC;FMTTYPE=TEXT/HTML:<p>Have a safe Halloween!</p>
END:VEVENT
BEGIN:VEVENT
UID:20191110T080000PST-27169VmC1T@http://www.fresnoscouts.com/
DTSTAMP:20260423T122035Z
CATEGORIES:Holidays
DESCRIPTION:<p>Semper Fi!</p>
DTSTART;TZID=America/Los_Angeles:20191110T000000
DTEND;TZID=America/Los_Angeles:20191110T235959
SUMMARY:Marine Corps BDay
URL:https://www.fresnoscouts.com/calendar/24-holidays/68-marine-corps-bday
X-ALT-DESC;FMTTYPE=TEXT/HTML:<p>Semper Fi!</p>
END:VEVENT
BEGIN:VEVENT
UID:20191111T080000PST-0062GciGcZ@http://www.fresnoscouts.com/
DTSTAMP:20260423T122035Z
CATEGORIES:Holidays
DESCRIPTION:<p>Salute a veteran!</p>
DTSTART;TZID=America/Los_Angeles:20191111T000000
DTEND;TZID=America/Los_Angeles:20191111T235959
SUMMARY:Veterans Day
URL:https://www.fresnoscouts.com/calendar/24-holidays/67-veterans-day
X-ALT-DESC;FMTTYPE=TEXT/HTML:<p>Salute a veteran!</p>
END:VEVENT
BEGIN:VEVENT
UID:20191128T080000PST-8796exDKTJ@http://www.fresnoscouts.com/
DTSTAMP:20260423T122035Z
CATEGORIES:Holidays
DESCRIPTION:<p>Eat some turkey.&nbsp\; Save the cows!</p>
DTSTART;TZID=America/Los_Angeles:20191128T000000
DTEND;TZID=America/Los_Angeles:20191128T235959
SUMMARY:Thanksgiving
URL:https://www.fresnoscouts.com/calendar/24-holidays/69-thanksgiving
X-ALT-DESC;FMTTYPE=TEXT/HTML:<p>Eat some turkey.&nbsp\; Save the cows!</p>
END:VEVENT
BEGIN:VEVENT
UID:20191225T080000PST-6301hsICwf@http://www.fresnoscouts.com/
DTSTAMP:20260423T122035Z
CATEGORIES:Holidays
DESCRIPTION:<p>Merry Scout Christmas!!!&nbsp\; Say happy birthday to the ma
 n when you say your prayers.</p>
DTSTART;TZID=America/Los_Angeles:20191225T000000
DTEND;TZID=America/Los_Angeles:20191225T235959
SUMMARY:Christmas
URL:https://www.fresnoscouts.com/calendar/24-holidays/70-christmas
X-ALT-DESC;FMTTYPE=TEXT/HTML:<p>Merry Scout Christmas!!!&nbsp\; Say happy b
 irthday to the man when you say your prayers.</p>
END:VEVENT
BEGIN:VEVENT
UID:20200412T000000PDT-1710IKxtms@http://www.fresnoscouts.com/
DTSTAMP:20260423T122035Z
CATEGORIES:Holidays
DTSTART;TZID=America/Los_Angeles:20200412T000000
DTEND;TZID=America/Los_Angeles:20200413T000000
SUMMARY:Easter
URL:https://www.fresnoscouts.com/calendar/24-holidays/89-easter
END:VEVENT
END:VCALENDAR
