BEGIN:VCALENDAR
VERSION:2.0
PRODID:-//https://www.fresnoscouts.com//NONSGML kigkonsult.se iCalcreator 2
 .29.14//
CALSCALE:GREGORIAN
METHOD:PUBLISH
UID:9ce8c43c-62a5-4d66-aa7f-862251ae20e1
X-WR-CALNAME:JCal Pro Calendar
X-WR-CALDESC:Your online events calendar
X-WR-TIMEZONE:America/Los_Angeles
BEGIN:VTIMEZONE
TZID:America/Los_Angeles
BEGIN:STANDARD
TZNAME:PST
DTSTART:20251102T020000
TZOFFSETFROM:-0700
TZOFFSETTO:-0800
RDATE:20261101T020000
END:STANDARD
BEGIN:DAYLIGHT
TZNAME:PDT
DTSTART:20260308T020000
TZOFFSETFROM:-0800
TZOFFSETTO:-0700
RDATE:20270314T020000
END:DAYLIGHT
END:VTIMEZONE
BEGIN:VEVENT
UID:20191028T183000PDT-3205lI8fFG@http://www.fresnoscouts.com/
DTSTAMP:20260423T150500Z
CATEGORIES:Meetings
DESCRIPTION:<p>Best Spooky Car Contest...</p>\n<p>Friends and Family are we
 lcome.</p>
DTSTART;TZID=America/Los_Angeles:20191028T183000
DTEND;TZID=America/Los_Angeles:20191028T183000
SUMMARY:Trunk or Treat
URL:https://www.fresnoscouts.com/calendar/23-meetings/65-trunk-or-treat
X-ALT-DESC;FMTTYPE=TEXT/HTML:<p>Best Spooky Car Contest...</p>\n<p>Friends 
 and Family are welcome.</p>
END:VEVENT
BEGIN:VEVENT
UID:20191031T080000PDT-4000aXEFDb@http://www.fresnoscouts.com/
DTSTAMP:20260423T150500Z
CATEGORIES:Holidays
DESCRIPTION:<p>Have a safe Halloween!</p>
DTSTART;TZID=America/Los_Angeles:20191031T000000
DTEND;TZID=America/Los_Angeles:20191031T235959
SUMMARY:Halloween
URL:https://www.fresnoscouts.com/calendar/24-holidays/64-halloween
X-ALT-DESC;FMTTYPE=TEXT/HTML:<p>Have a safe Halloween!</p>
END:VEVENT
END:VCALENDAR
