BEGIN:VCALENDAR
VERSION:2.0
PRODID:-//https://www.fresnoscouts.com//NONSGML kigkonsult.se iCalcreator 2
 .29.14//
CALSCALE:GREGORIAN
METHOD:PUBLISH
UID:57a9a5c9-245c-430f-ba10-eba5b4b40b48
X-WR-CALNAME:JCal Pro Calendar
X-WR-CALDESC:Your online events calendar
X-WR-TIMEZONE:America/Los_Angeles
BEGIN:VTIMEZONE
TZID:America/Los_Angeles
BEGIN:STANDARD
TZNAME:PST
DTSTART:20251102T020000
TZOFFSETFROM:-0700
TZOFFSETTO:-0800
RDATE:20261101T020000
END:STANDARD
BEGIN:DAYLIGHT
TZNAME:PDT
DTSTART:20260308T020000
TZOFFSETFROM:-0800
TZOFFSETTO:-0700
RDATE:20270314T020000
END:DAYLIGHT
END:VTIMEZONE
BEGIN:VEVENT
UID:20191225T080000PST-6301hsICwf@http://www.fresnoscouts.com/
DTSTAMP:20260423T145952Z
CATEGORIES:Holidays
DESCRIPTION:<p>Merry Scout Christmas!!!&nbsp\; Say happy birthday to the ma
 n when you say your prayers.</p>
DTSTART;TZID=America/Los_Angeles:20191225T000000
DTEND;TZID=America/Los_Angeles:20191225T235959
SUMMARY:Christmas
URL:https://www.fresnoscouts.com/calendar/24-holidays/70-christmas
X-ALT-DESC;FMTTYPE=TEXT/HTML:<p>Merry Scout Christmas!!!&nbsp\; Say happy b
 irthday to the man when you say your prayers.</p>
END:VEVENT
END:VCALENDAR
