BEGIN:VCALENDAR
VERSION:2.0
PRODID:-//https://www.fresnoscouts.com//NONSGML kigkonsult.se iCalcreator 2
 .29.14//
CALSCALE:GREGORIAN
METHOD:PUBLISH
UID:d9612927-85ef-46d9-81aa-52ebe5276341
X-WR-CALNAME:JCal Pro Calendar
X-WR-CALDESC:Your online events calendar
X-WR-TIMEZONE:America/Los_Angeles
BEGIN:VTIMEZONE
TZID:America/Los_Angeles
BEGIN:STANDARD
TZNAME:PST
DTSTART:20251102T020000
TZOFFSETFROM:-0700
TZOFFSETTO:-0800
RDATE:20261101T020000
END:STANDARD
BEGIN:DAYLIGHT
TZNAME:PDT
DTSTART:20260308T020000
TZOFFSETFROM:-0800
TZOFFSETTO:-0700
RDATE:20270314T020000
END:DAYLIGHT
END:VTIMEZONE
BEGIN:VEVENT
UID:20200406T150000PDT-8200vrivVm@http://www.fresnoscouts.com/
DTSTAMP:20260423T161532Z
CATEGORIES:Meetings
DTSTART;TZID=America/Los_Angeles:20200406T150000
DTEND;TZID=America/Los_Angeles:20200406T150500
SUMMARY:NO Meeting
URL:https://www.fresnoscouts.com/calendar/23-meetings/90-no-meeting
END:VEVENT
BEGIN:VEVENT
UID:20200406T190000PDT-7711hSTAmf@http://www.fresnoscouts.com/
DTSTAMP:20260423T161532Z
CATEGORIES:Meetings
DTSTART;TZID=America/Los_Angeles:20200406T190000
DTEND;TZID=America/Los_Angeles:20200406T203000
SUMMARY:Troop Meeting
URL:https://www.fresnoscouts.com/calendar/23-meetings/80-troop-meeting
END:VEVENT
BEGIN:VEVENT
UID:20200412T000000PDT-1710IKxtms@http://www.fresnoscouts.com/
DTSTAMP:20260423T161532Z
CATEGORIES:Holidays
DTSTART;TZID=America/Los_Angeles:20200412T000000
DTEND;TZID=America/Los_Angeles:20200413T000000
SUMMARY:Easter
URL:https://www.fresnoscouts.com/calendar/24-holidays/89-easter
END:VEVENT
BEGIN:VEVENT
UID:20200413T190000PDT-3508ILuZ06@http://www.fresnoscouts.com/
DTSTAMP:20260423T161532Z
CATEGORIES:Meetings
DTSTART;TZID=America/Los_Angeles:20200413T190000
DTEND;TZID=America/Los_Angeles:20200413T203000
SUMMARY:Committee Meeting
URL:https://www.fresnoscouts.com/calendar/23-meetings/87-committee-meeting
END:VEVENT
BEGIN:VEVENT
UID:20200417T173000PDT-09769dvPPB@http://www.fresnoscouts.com/
DTSTAMP:20260423T161532Z
CATEGORIES:Outings
DTSTART;TZID=America/Los_Angeles:20200417T173000
DTEND;TZID=America/Los_Angeles:20200419T100000
SUMMARY:Choinumne Outing
URL:https://www.fresnoscouts.com/calendar/17-outings/83-choinumne-outing
END:VEVENT
BEGIN:VEVENT
UID:20200420T190000PDT-9168vfuG9k@http://www.fresnoscouts.com/
DTSTAMP:20260423T161532Z
CATEGORIES:Meetings
DTSTART;TZID=America/Los_Angeles:20200420T190000
DTEND;TZID=America/Los_Angeles:20200420T203000
SUMMARY:Troop Meeting
URL:https://www.fresnoscouts.com/calendar/23-meetings/81-troop-meeting
END:VEVENT
BEGIN:VEVENT
UID:20200427T190000PDT-9393H5dRjb@http://www.fresnoscouts.com/
DTSTAMP:20260423T161532Z
CATEGORIES:Meetings
DTSTART;TZID=America/Los_Angeles:20200427T190000
DTEND;TZID=America/Los_Angeles:20200427T203000
SUMMARY:Troop Meeting
URL:https://www.fresnoscouts.com/calendar/23-meetings/82-troop-meeting
END:VEVENT
END:VCALENDAR
